BEGIN:VCALENDAR
VERSION:2.0
PRODID:-//PicaPica Plaza - ECPv6.8.2.1//NONSGML v1.0//EN
CALSCALE:GREGORIAN
METHOD:PUBLISH
X-ORIGINAL-URL:https://picapicaplaza.com
X-WR-CALDESC:Events for PicaPica Plaza
REFRESH-INTERVAL;VALUE=DURATION:PT1H
X-Robots-Tag:noindex
X-PUBLISHED-TTL:PT1H
BEGIN:VTIMEZONE
TZID:America/Chicago
BEGIN:DAYLIGHT
TZOFFSETFROM:-0600
TZOFFSETTO:-0500
TZNAME:CDT
DTSTART:20250309T080000
END:DAYLIGHT
BEGIN:STANDARD
TZOFFSETFROM:-0500
TZOFFSETTO:-0600
TZNAME:CST
DTSTART:20251102T070000
END:STANDARD
BEGIN:DAYLIGHT
TZOFFSETFROM:-0600
TZOFFSETTO:-0500
TZNAME:CDT
DTSTART:20260308T080000
END:DAYLIGHT
BEGIN:STANDARD
TZOFFSETFROM:-0500
TZOFFSETTO:-0600
TZNAME:CST
DTSTART:20261101T070000
END:STANDARD
END:VTIMEZONE
BEGIN:VEVENT
DTSTART;TZID=America/Chicago:20251128T140000
DTEND;TZID=America/Chicago:20251128T170000
DTSTAMP:20260425T231540
CREATED:20251009T165812Z
LAST-MODIFIED:20251110T174640Z
UID:3949-1764338400-1764349200@picapicaplaza.com
SUMMARY:Black Friday Specials @ PicaPica Plaza
DESCRIPTION:Free Raffles \nDJ – Food – Fun \n \n 
URL:https://picapicaplaza.com/event/community-resource-fair/
CATEGORIES:Loteria
END:VEVENT
BEGIN:VEVENT
DTSTART;TZID=America/Chicago:20251213T120000
DTEND;TZID=America/Chicago:20251213T140000
DTSTAMP:20260425T231540
CREATED:20251205T000021Z
LAST-MODIFIED:20251205T000021Z
UID:3979-1765627200-1765634400@picapicaplaza.com
SUMMARY:Free Pictures with Santa
DESCRIPTION:Use your own phone or camera! \nDecember 13\, Saturday \n12:00pm—2:00pm \nDecember 17 & 18\, Wednesday & Thursday \n4:30pm—6:30pm \nDecember 20\, Saturday \n12:00pm—2:00pm \nDecember 24\, Wednesday \n3:00pm—5:00pm \n  \n  \n 
URL:https://picapicaplaza.com/event/free-pictures-with-santa-2/
END:VEVENT
BEGIN:VEVENT
DTSTART;TZID=America/Chicago:20251217T163000
DTEND;TZID=America/Chicago:20251217T183000
DTSTAMP:20260425T231540
CREATED:20251205T000154Z
LAST-MODIFIED:20251205T001517Z
UID:3981-1765989000-1765996200@picapicaplaza.com
SUMMARY:Free Pictures with Santa
DESCRIPTION:Use your own phone or camera! \nDecember 13\, Saturday 12:00pm—2:00pm \n  \nDecember 17 & 18\, Wednesday & Thursday 4:30pm—6:30pm \n  \nDecember 20\, Saturday 12:00pm—2:00pm \n  \nDecember 24\, Wednesday 3:00pm—5:00pm
URL:https://picapicaplaza.com/event/3981/
END:VEVENT
BEGIN:VEVENT
DTSTART;TZID=America/Chicago:20251218T163000
DTEND;TZID=America/Chicago:20251218T183000
DTSTAMP:20260425T231540
CREATED:20251205T000340Z
LAST-MODIFIED:20251205T000340Z
UID:3984-1766075400-1766082600@picapicaplaza.com
SUMMARY:Free Pictures with Santa
DESCRIPTION:Use your own phone or camera! \nDecember 13\, Saturday 12:00pm—2:00pm \n  \nDecember 17 & 18\, Wednesday & Thursday 4:30pm—6:30pm \n  \nDecember 20\, Saturday 12:00pm—2:00pm \n  \nDecember 24\, Wednesday 3:00pm—5:00pm
URL:https://picapicaplaza.com/event/free-pictures-with-santa-3/
END:VEVENT
BEGIN:VEVENT
DTSTART;TZID=America/Chicago:20251219T130000
DTEND;TZID=America/Chicago:20251219T190000
DTSTAMP:20260425T231540
CREATED:20251114T154038Z
LAST-MODIFIED:20251114T154038Z
UID:3974-1766149200-1766170800@picapicaplaza.com
SUMMARY:DJ Killjoy - A Merry KPOP Extravaganza
DESCRIPTION:
URL:https://picapicaplaza.com/event/dj-killjoy-a-merry-kpop-extravaganza/
END:VEVENT
BEGIN:VEVENT
DTSTART;TZID=America/Chicago:20251220T120000
DTEND;TZID=America/Chicago:20251220T140000
DTSTAMP:20260425T231540
CREATED:20251205T000427Z
LAST-MODIFIED:20251205T000427Z
UID:3986-1766232000-1766239200@picapicaplaza.com
SUMMARY:Free Pictures with Santa!
DESCRIPTION:Use your own phone or camera! \nDecember 13\, Saturday 12:00pm—2:00pm \n  \nDecember 17 & 18\, Wednesday & Thursday 4:30pm—6:30pm \n  \nDecember 20\, Saturday 12:00pm—2:00pm \n  \nDecember 24\, Wednesday 3:00pm—5:00pm
URL:https://picapicaplaza.com/event/free-pictures-with-santa-4/
END:VEVENT
BEGIN:VEVENT
DTSTART;TZID=America/Chicago:20251222T130000
DTEND;TZID=America/Chicago:20251222T150000
DTSTAMP:20260425T231540
CREATED:20230622T151155Z
LAST-MODIFIED:20251114T153845Z
UID:3422-1766408400-1766415600@picapicaplaza.com
SUMMARY:Loteria with The Grinch!
DESCRIPTION:Join us for some family fun 1pm – 3pm! \n1 FREE card per person and get an extra card by bringing 2 canned goods or a new unwrapped toy. \nNO Outside Food or Drinks\, please support our small shops within the Plaza! \nEveryone is welcomed to play! \n \n  \n  \n 
URL:https://picapicaplaza.com/event/loteria-sponsored-by-salsa-caliente-grill/
CATEGORIES:Loteria
END:VEVENT
BEGIN:VEVENT
DTSTART;TZID=America/Chicago:20251224T150000
DTEND;TZID=America/Chicago:20251224T170000
DTSTAMP:20260425T231540
CREATED:20251205T000522Z
LAST-MODIFIED:20251205T000522Z
UID:3988-1766588400-1766595600@picapicaplaza.com
SUMMARY:Free Pictures with Santa
DESCRIPTION:Use your own phone or camera! \nDecember 13\, Saturday 12:00pm—2:00pm \n  \nDecember 17 & 18\, Wednesday & Thursday 4:30pm—6:30pm \n  \nDecember 20\, Saturday 12:00pm—2:00pm \n  \nDecember 24\, Wednesday 3:00pm—5:00pm
URL:https://picapicaplaza.com/event/free-pictures-with-santa-5/
END:VEVENT
BEGIN:VEVENT
DTSTART;TZID=America/Chicago:20260127T180000
DTEND;TZID=America/Chicago:20260127T190000
DTSTAMP:20260425T231540
CREATED:20260116T182608Z
LAST-MODIFIED:20260116T182628Z
UID:4001-1769536800-1769540400@picapicaplaza.com
SUMMARY:Zumba w/ Rose
DESCRIPTION:Join us for a FREE Zumba classes!
URL:https://picapicaplaza.com/event/zumba-w-rosemary/
END:VEVENT
BEGIN:VEVENT
DTSTART;TZID=America/Chicago:20260206T150000
DTEND;TZID=America/Chicago:20260206T180000
DTSTAMP:20260425T231540
CREATED:20250103T145329Z
LAST-MODIFIED:20260130T173810Z
UID:3811-1770390000-1770400800@picapicaplaza.com
SUMMARY:Valentines Senior Dance
DESCRIPTION:Join the fun with Mrs. Insurance! \nEveryone is welcome to join the fun with music and free raffles!
URL:https://picapicaplaza.com/event/first-friday-senior-dance-46/
CATEGORIES:First Friday
END:VEVENT
BEGIN:VEVENT
DTSTART;TZID=America/Chicago:20260210T180000
DTEND;TZID=America/Chicago:20260210T190000
DTSTAMP:20260425T231540
CREATED:20260116T182726Z
LAST-MODIFIED:20260130T173133Z
UID:4006-1770746400-1770750000@picapicaplaza.com
SUMMARY:Galentines Zumba w/ Rose
DESCRIPTION:Join us for a FREE Zumba classes!
URL:https://picapicaplaza.com/event/zumba-w-rose/
END:VEVENT
BEGIN:VEVENT
DTSTART;TZID=America/Chicago:20260219T130000
DTEND;TZID=America/Chicago:20260219T150000
DTSTAMP:20260425T231540
CREATED:20260116T182135Z
LAST-MODIFIED:20260413T142934Z
UID:3998-1771506000-1771513200@picapicaplaza.com
SUMMARY:Loteria w/Mrs. Insurance
DESCRIPTION:Join us for some family fun 1pm – 3pm! \n1 FREE card per person and get an extra card by donating the listed items: \n\nPurses & bags (new/gently used)\nHygiene items\nFeminine products\nSocks & undergarments\n\nSmall accessories \nThis Is 4 My Girlz\, Inc. • Empowering Women & Youth \n#ThisIs4MyGirlz #StuffThePurse #PurseWithPurpose #PurseonalSupport \n  \nNO Outside Food or Drinks\, please support our small shops within the Plaza! \nEveryone is welcomed to play! \n 
URL:https://picapicaplaza.com/event/loteria-w-mrs-insurance/
CATEGORIES:Loteria
END:VEVENT
BEGIN:VEVENT
DTSTART;TZID=America/Chicago:20260220T110000
DTEND;TZID=America/Chicago:20260220T140000
DTSTAMP:20260425T231540
CREATED:20260217T171627Z
LAST-MODIFIED:20260217T171627Z
UID:4044-1771585200-1771596000@picapicaplaza.com
SUMMARY:Zumbathon with Rose
DESCRIPTION:
URL:https://picapicaplaza.com/event/zumbathon-with-rose/
END:VEVENT
BEGIN:VEVENT
DTSTART;TZID=America/Chicago:20260224T180000
DTEND;TZID=America/Chicago:20260224T190000
DTSTAMP:20260425T231540
CREATED:20260116T182807Z
LAST-MODIFIED:20260116T182815Z
UID:4008-1771956000-1771959600@picapicaplaza.com
SUMMARY:Zumba w/ Rose
DESCRIPTION:Join us for a FREE Zumba classes!
URL:https://picapicaplaza.com/event/zumba-w-rose-2/
END:VEVENT
BEGIN:VEVENT
DTSTART;TZID=America/Chicago:20260306T130000
DTEND;TZID=America/Chicago:20260306T150000
DTSTAMP:20260425T231540
CREATED:20230105T200221Z
LAST-MODIFIED:20260305T165404Z
UID:3275-1772802000-1772809200@picapicaplaza.com
SUMMARY:First Friday Senior Dance
DESCRIPTION:Join the fun with Mrs. Insurance! \nAll seniors 62+ are welcome to join the fun with music and free raffles! \n  \n 
URL:https://picapicaplaza.com/event/first-friday-senior-dance-38/
CATEGORIES:First Friday
END:VEVENT
BEGIN:VEVENT
DTSTART;TZID=America/Chicago:20260403T130000
DTEND;TZID=America/Chicago:20260403T150000
DTSTAMP:20260425T231540
CREATED:20260305T165449Z
LAST-MODIFIED:20260305T165449Z
UID:4057-1775221200-1775228400@picapicaplaza.com
SUMMARY:First Friday Senior Dance
DESCRIPTION:Join the fun with Mrs. Insurance! \nAll seniors 62+ are welcome to join the fun with music and free raffles!
URL:https://picapicaplaza.com/event/first-friday-senior-dance-47/
CATEGORIES:First Friday
END:VEVENT
BEGIN:VEVENT
DTSTART;TZID=America/Chicago:20260408T150000
DTEND;TZID=America/Chicago:20260408T183000
DTSTAMP:20260425T231540
CREATED:20260227T221024Z
LAST-MODIFIED:20260401T171817Z
UID:4050-1775660400-1775673000@picapicaplaza.com
SUMMARY:FIESTA MEDAL LOVE
DESCRIPTION:Buy-Sell-Trade \nFree for all Fiesta Medal Vendors!! \nThose that want to sell Fiesta related merchandise there is a $15 fee. \nMust bring in your own table\, no larger than 6ft.
URL:https://picapicaplaza.com/event/fiesta-medal-love-11/
END:VEVENT
BEGIN:VEVENT
DTSTART;TZID=America/Chicago:20260501T130000
DTEND;TZID=America/Chicago:20260501T150000
DTSTAMP:20260425T231540
CREATED:20260305T165521Z
LAST-MODIFIED:20260305T165521Z
UID:4059-1777640400-1777647600@picapicaplaza.com
SUMMARY:First Friday Senior Dance
DESCRIPTION:Join the fun with Mrs. Insurance! \nAll seniors 62+ are welcome to join the fun with music and free raffles!
URL:https://picapicaplaza.com/event/first-friday-senior-dance-48/
CATEGORIES:First Friday
END:VEVENT
BEGIN:VEVENT
DTSTART;TZID=America/Chicago:20260605T130000
DTEND;TZID=America/Chicago:20260605T150000
DTSTAMP:20260425T231540
CREATED:20260305T165616Z
LAST-MODIFIED:20260305T165616Z
UID:4061-1780664400-1780671600@picapicaplaza.com
SUMMARY:Frist Friday Senior Dance
DESCRIPTION:Join the fun with Mrs. Insurance! \nAll seniors 62+ are welcome to join the fun with music and free raffles!
URL:https://picapicaplaza.com/event/frist-friday-senior-dance/
CATEGORIES:First Friday
END:VEVENT
BEGIN:VEVENT
DTSTART;TZID=America/Chicago:20260703T130000
DTEND;TZID=America/Chicago:20260703T150000
DTSTAMP:20260425T231540
CREATED:20260305T165646Z
LAST-MODIFIED:20260305T165646Z
UID:4063-1783083600-1783090800@picapicaplaza.com
SUMMARY:First Friday Senior Dance
DESCRIPTION:Join the fun with Mrs. Insurance! \nAll seniors 62+ are welcome to join the fun with music and free raffles!
URL:https://picapicaplaza.com/event/first-friday-senior-dance-49/
CATEGORIES:First Friday
END:VEVENT
END:VCALENDAR